BEGIN:VCALENDAR
VERSION:2.0
PRODID:-//KG Hamm Wer Net e.V. - ECPv6.9.1//NONSGML v1.0//EN
CALSCALE:GREGORIAN
METHOD:PUBLISH
X-WR-CALNAME:KG Hamm Wer Net e.V.
X-ORIGINAL-URL:https://hamm-wer-net.de
X-WR-CALDESC:Veranstaltungen für KG Hamm Wer Net e.V.
REFRESH-INTERVAL;VALUE=DURATION:PT1H
X-Robots-Tag:noindex
X-PUBLISHED-TTL:PT1H
BEGIN:VTIMEZONE
TZID:Europe/Berlin
BEGIN:DAYLIGHT
TZOFFSETFROM:+0100
TZOFFSETTO:+0200
TZNAME:CEST
DTSTART:20250330T010000
END:DAYLIGHT
BEGIN:STANDARD
TZOFFSETFROM:+0200
TZOFFSETTO:+0100
TZNAME:CET
DTSTART:20251026T010000
END:STANDARD
END:VTIMEZONE
BEGIN:VEVENT
DTSTART;TZID=Europe/Berlin:20251218T193000
DTEND;TZID=Europe/Berlin:20251218T233000
DTSTAMP:20260423T005905
CREATED:20250128T081758Z
LAST-MODIFIED:20250128T081816Z
UID:912-1766086200-1766100600@hamm-wer-net.de
SUMMARY:Schrottwichteln 2025
DESCRIPTION:Die KG Hamm wer net e.V. veranstaltet für die Mitglieder jedes Jahr ein Schrottwichteln vor Weihnachten. In der Regel findet das Schrottwichteln im Warsteiner Treff in Viersen am letzten Donnerstag vor Heiligabend statt. \nDie Regeln für das Schrottwichteln sind sehr einfach:\nJeder Teilnehmer bringt ein verpacktes Wichtelgeschenk mit. Dabei darf es sich nicht um Müll handeln\, sondern “Schrott” bedeutet in diesem Kontext etwas “Überzähliges”\, etwas “Geschmackloses” oder etwas “Überflüssiges”. Vor Ort entscheidet das Los über die Ziehung der Wichtelgeschenke. \n 
URL:https://hamm-wer-net.de/event/schrottwichteln-2025/
LOCATION:Warsteiner Treff\, Hauptstraße 101\, Viersen\, NRW\, 41747\, Deutschland
CATEGORIES:Interne Veranstaltung
END:VEVENT
END:VCALENDAR